BEGIN:VCALENDAR
VERSION:2.0
PRODID:-//Brick Books - ECPv6.15.20//NONSGML v1.0//EN
CALSCALE:GREGORIAN
METHOD:PUBLISH
X-ORIGINAL-URL:https://www.brickbooks.ca
X-WR-CALDESC:Events for Brick Books
REFRESH-INTERVAL;VALUE=DURATION:PT1H
X-Robots-Tag:noindex
X-PUBLISHED-TTL:PT1H
BEGIN:VTIMEZONE
TZID:America/New_York
BEGIN:DAYLIGHT
TZOFFSETFROM:-0500
TZOFFSETTO:-0400
TZNAME:EDT
DTSTART:20240310T070000
END:DAYLIGHT
BEGIN:STANDARD
TZOFFSETFROM:-0400
TZOFFSETTO:-0500
TZNAME:EST
DTSTART:20241103T060000
END:STANDARD
BEGIN:DAYLIGHT
TZOFFSETFROM:-0500
TZOFFSETTO:-0400
TZNAME:EDT
DTSTART:20250309T070000
END:DAYLIGHT
BEGIN:STANDARD
TZOFFSETFROM:-0400
TZOFFSETTO:-0500
TZNAME:EST
DTSTART:20251102T060000
END:STANDARD
BEGIN:DAYLIGHT
TZOFFSETFROM:-0500
TZOFFSETTO:-0400
TZNAME:EDT
DTSTART:20260308T070000
END:DAYLIGHT
BEGIN:STANDARD
TZOFFSETFROM:-0400
TZOFFSETTO:-0500
TZNAME:EST
DTSTART:20261101T060000
END:STANDARD
END:VTIMEZONE
BEGIN:VTIMEZONE
TZID:UTC
BEGIN:STANDARD
TZOFFSETFROM:+0000
TZOFFSETTO:+0000
TZNAME:UTC
DTSTART:20240101T000000
END:STANDARD
END:VTIMEZONE
BEGIN:VTIMEZONE
TZID:America/Halifax
BEGIN:DAYLIGHT
TZOFFSETFROM:-0400
TZOFFSETTO:-0300
TZNAME:ADT
DTSTART:20240310T060000
END:DAYLIGHT
BEGIN:STANDARD
TZOFFSETFROM:-0300
TZOFFSETTO:-0400
TZNAME:AST
DTSTART:20241103T050000
END:STANDARD
BEGIN:DAYLIGHT
TZOFFSETFROM:-0400
TZOFFSETTO:-0300
TZNAME:ADT
DTSTART:20250309T060000
END:DAYLIGHT
BEGIN:STANDARD
TZOFFSETFROM:-0300
TZOFFSETTO:-0400
TZNAME:AST
DTSTART:20251102T050000
END:STANDARD
BEGIN:DAYLIGHT
TZOFFSETFROM:-0400
TZOFFSETTO:-0300
TZNAME:ADT
DTSTART:20260308T060000
END:DAYLIGHT
BEGIN:STANDARD
TZOFFSETFROM:-0300
TZOFFSETTO:-0400
TZNAME:AST
DTSTART:20261101T050000
END:STANDARD
END:VTIMEZONE
BEGIN:VTIMEZONE
TZID:America/Denver
BEGIN:DAYLIGHT
TZOFFSETFROM:-0700
TZOFFSETTO:-0600
TZNAME:MDT
DTSTART:20240310T090000
END:DAYLIGHT
BEGIN:STANDARD
TZOFFSETFROM:-0600
TZOFFSETTO:-0700
TZNAME:MST
DTSTART:20241103T080000
END:STANDARD
BEGIN:DAYLIGHT
TZOFFSETFROM:-0700
TZOFFSETTO:-0600
TZNAME:MDT
DTSTART:20250309T090000
END:DAYLIGHT
BEGIN:STANDARD
TZOFFSETFROM:-0600
TZOFFSETTO:-0700
TZNAME:MST
DTSTART:20251102T080000
END:STANDARD
BEGIN:DAYLIGHT
TZOFFSETFROM:-0700
TZOFFSETTO:-0600
TZNAME:MDT
DTSTART:20260308T090000
END:DAYLIGHT
BEGIN:STANDARD
TZOFFSETFROM:-0600
TZOFFSETTO:-0700
TZNAME:MST
DTSTART:20261101T080000
END:STANDARD
END:VTIMEZONE
BEGIN:VTIMEZONE
TZID:America/Chicago
BEGIN:DAYLIGHT
TZOFFSETFROM:-0600
TZOFFSETTO:-0500
TZNAME:CDT
DTSTART:20240310T080000
END:DAYLIGHT
BEGIN:STANDARD
TZOFFSETFROM:-0500
TZOFFSETTO:-0600
TZNAME:CST
DTSTART:20241103T070000
END:STANDARD
BEGIN:DAYLIGHT
TZOFFSETFROM:-0600
TZOFFSETTO:-0500
TZNAME:CDT
DTSTART:20250309T080000
END:DAYLIGHT
BEGIN:STANDARD
TZOFFSETFROM:-0500
TZOFFSETTO:-0600
TZNAME:CST
DTSTART:20251102T070000
END:STANDARD
BEGIN:DAYLIGHT
TZOFFSETFROM:-0600
TZOFFSETTO:-0500
TZNAME:CDT
DTSTART:20260308T080000
END:DAYLIGHT
BEGIN:STANDARD
TZOFFSETFROM:-0500
TZOFFSETTO:-0600
TZNAME:CST
DTSTART:20261101T070000
END:STANDARD
END:VTIMEZONE
BEGIN:VTIMEZONE
TZID:America/Toronto
BEGIN:DAYLIGHT
TZOFFSETFROM:-0500
TZOFFSETTO:-0400
TZNAME:EDT
DTSTART:20240310T070000
END:DAYLIGHT
BEGIN:STANDARD
TZOFFSETFROM:-0400
TZOFFSETTO:-0500
TZNAME:EST
DTSTART:20241103T060000
END:STANDARD
BEGIN:DAYLIGHT
TZOFFSETFROM:-0500
TZOFFSETTO:-0400
TZNAME:EDT
DTSTART:20250309T070000
END:DAYLIGHT
BEGIN:STANDARD
TZOFFSETFROM:-0400
TZOFFSETTO:-0500
TZNAME:EST
DTSTART:20251102T060000
END:STANDARD
BEGIN:DAYLIGHT
TZOFFSETFROM:-0500
TZOFFSETTO:-0400
TZNAME:EDT
DTSTART:20260308T070000
END:DAYLIGHT
BEGIN:STANDARD
TZOFFSETFROM:-0400
TZOFFSETTO:-0500
TZNAME:EST
DTSTART:20261101T060000
END:STANDARD
END:VTIMEZONE
BEGIN:VTIMEZONE
TZID:America/Sao_Paulo
BEGIN:STANDARD
TZOFFSETFROM:-0300
TZOFFSETTO:-0300
TZNAME:-03
DTSTART:20240101T000000
END:STANDARD
END:VTIMEZONE
BEGIN:VEVENT
DTSTART;TZID=America/New_York:20251118T183000
DTEND;TZID=America/New_York:20251118T200000
DTSTAMP:20260421T050059
CREATED:20251104T170953Z
LAST-MODIFIED:20251104T170953Z
UID:9602-1763490600-1763496000@www.brickbooks.ca
SUMMARY:Why Not Poetry?
DESCRIPTION:Ronna Bloom will be participating in a reading at Queen Books with John Barton\, author of Compulsory Figures (Caitlin Press)\, and Jim Nason\, author of Self-Portrait Embracing a Fabulous Beast (Frontenac House).
URL:https://www.brickbooks.ca/event/why-not-poetry/
LOCATION:Queen Books\, 914 Queen St. E\, Toronto\, Ontario\, M4M 1J5\, Canada
END:VEVENT
BEGIN:VEVENT
DTSTART;TZID=America/New_York:20251113T180000
DTEND;TZID=America/New_York:20251113T200000
DTSTAMP:20260421T050059
CREATED:20251002T062005Z
LAST-MODIFIED:20251002T062005Z
UID:9475-1763056800-1763064000@www.brickbooks.ca
SUMMARY:Ampersand Review's November Reading Series with Ronna Bloom and Charlie Petch
DESCRIPTION:The Ampersand Review Series is welcoming Brick Book author’s Ronna Bloom and Charlie Petch at Sheridan College Hazel McCallion Campus. The authors will share their work in a warm and inviting atmosphere. Please note that this event will be taking place in the Creative Campus Gallery\, Room B234 in the B-Wing at Sheridan College’s Hazel McCallion Campus.
URL:https://www.brickbooks.ca/event/ampersand-reviews-november-reading-series-with-ronna-bloom-and-charlie-petch/
LOCATION:Sheridan College – Creative Campus Gallery\, Room B234\, 4180 Duke of York Boulevard\, Mississauga\, ON\, L5B 3W3\, Canada
END:VEVENT
BEGIN:VEVENT
DTSTART;TZID=UTC:20251109T130000
DTEND;TZID=UTC:20251109T140000
DTSTAMP:20260421T050059
CREATED:20251104T183623Z
LAST-MODIFIED:20251104T183623Z
UID:9607-1762693200-1762696800@www.brickbooks.ca
SUMMARY:Visiting With
DESCRIPTION:Join Vancouver poets Mercedes Eng and Cecily Nicholson in conversation with Toronto poets Jody Chan and Maysam Ghani for an afternoon of community-based poetry and conversation.
URL:https://www.brickbooks.ca/event/visiting-with/
LOCATION:Living Room\, Tranzac Club\, 292 Brunswick Avenue\, Toronto\, ON\, M5S 2M7\, Canada
END:VEVENT
BEGIN:VEVENT
DTSTART;TZID=America/Halifax:20251102T140000
DTEND;TZID=America/Halifax:20251102T153000
DTSTAMP:20260421T050059
CREATED:20251002T223013Z
LAST-MODIFIED:20251002T223133Z
UID:9489-1762092000-1762097400@www.brickbooks.ca
SUMMARY:Montreal Launch of In a Riptide with Stephanie Bolster & Gillian Sze
DESCRIPTION:A poetry book launch\, celebrating the release of An Orange\, A Syllable by Gillian Sze\, Long Exposure by Stephanie Bolster\, and In a Riptide by Ronna Bloom.
URL:https://www.brickbooks.ca/event/montreal-launch-of-in-a-riptide-with-stephanie-bolster-gillian-sze/
LOCATION:Librairie Paragraphe Bookstore\, 2220 Avenue McGill College\, Montréal\, QC\, H3A 3P9\, Canada
ORGANIZER;CN="ECW Press":MAILTO:info@ecwpress.com
END:VEVENT
BEGIN:VEVENT
DTSTART;TZID=America/Denver:20251029T190000
DTEND;TZID=America/Denver:20251029T190000
DTSTAMP:20260421T050059
CREATED:20251010T014740Z
LAST-MODIFIED:20251010T014808Z
UID:9528-1761764400-1761764400@www.brickbooks.ca
SUMMARY:The Garbage Poems Book Launch at Iron Dog Books
DESCRIPTION:Celebrate the launch of The Garbage Poems with author Anna Swanson! Anna Swanson will be joined by writers Amber Dawn and Estlin McPee for an evening of discussion\, readings\, and celebration. \nDoors open at 6:30 PM. \nPlease note that this is a masks-required event\, and masks will be provided at the door.
URL:https://www.brickbooks.ca/event/the-garbage-poems-book-launch-at-iron-dog-books/
LOCATION:Iron Dog Books\, 2671 E Hastings Street\, Vancouver\, BC\, V5K 1Z5\, Canada
END:VEVENT
BEGIN:VEVENT
DTSTART;TZID=America/New_York:20251017T190000
DTEND;TZID=America/New_York:20251017T210000
DTSTAMP:20260421T050059
CREATED:20251002T222211Z
LAST-MODIFIED:20251010T015830Z
UID:9484-1760727600-1760734800@www.brickbooks.ca
SUMMARY:Brick Poetry Double Launch: Anna Swanson & Charlie Petch
DESCRIPTION:Double launch of Anna Swanson’s The Garbage Poems and Charlie Petch’s Infinite Audition! With Alayna Munce\, Qurat Dar\, M’yz.
URL:https://www.brickbooks.ca/event/brick-poetry-double-launch-anna-swanson-charlie-petch/
LOCATION:Another Story Bookshop\, 315 Roncesvalles Ave.\, Toronto\, ON\, M6R 2M6\, Canada
END:VEVENT
BEGIN:VEVENT
DTSTART;TZID=America/New_York:20251016T190000
DTEND;TZID=America/New_York:20251016T190000
DTSTAMP:20260421T050059
CREATED:20251002T070400Z
LAST-MODIFIED:20251010T015229Z
UID:9478-1760641200-1760641200@www.brickbooks.ca
SUMMARY:Poetry @ Silence with Charlie Petch\, Anna Swanson\, Lisa Baird\, and Ziysah von Bieberstein
DESCRIPTION:An unforgettable evening of poetry and performance to celebrate the release of two new poetry collections from Brick Books: Infinite Audition by Charlie Petch and The Garbage Poems by Anna Swanson\, with special performances by Lisa Baird and Ziysah von Bieberstein. Presented by SILENCE and BRICK BOOKS. Registration is free\, with donations accepted at the door. Recent books from all four poets will be for sale at the event. \n 
URL:https://www.brickbooks.ca/event/poetry-silence-with-charlie-petch-anna-swanson-lisa-baird-and-ziysah-von-bieberstein/
LOCATION:Silence\, 46 Essex Street\, Guelph\, ON\, N1H 3K8\, Canada
END:VEVENT
BEGIN:VEVENT
DTSTART;TZID=America/New_York:20251004T140000
DTEND;TZID=America/New_York:20251004T140000
DTSTAMP:20260421T050059
CREATED:20251001T192509Z
LAST-MODIFIED:20251001T192749Z
UID:9465-1759586400-1759586400@www.brickbooks.ca
SUMMARY:Al Purdy A-frame Alumni Chapbook Launch
DESCRIPTION:Join recent alumni in launching a new chapbook that celebrates Al Purdy’s influence\, his legacy\, and how the A-frame continues to serve as a community gathering place for writers. The chapbook includes work by Charmaine Cadeau\, Damian Rogers\, Ronna Bloom\, Cornelia Hoogland\, John Barton\, H. E. Casson\, Ariel Gordon\, Tanis MacDonald\, Madhur Anand\, Elena Johnson\, Manahil Bandukwala\, Liam Burke\, Armand Garnet Ruffo\, Anna Swanson\, Matthew Hollett\, Kirsteen MacLeod\, Jessica Bebenek\, and Bren Simmers. Several of the writers will be in attendance at the launch. Limited free copies of the chapbook will be given out. This is a free event\, and all are welcome.
URL:https://www.brickbooks.ca/event/al-purdy-a-frame-alumni-chapbook-launch/
LOCATION:Picton Branch Library Flex Space\, 208 Main St. W.\, Picton\, ON\, K0K 2T0\, Canada
END:VEVENT
BEGIN:VEVENT
DTSTART;TZID=America/New_York:20250907T183000
DTEND;TZID=America/New_York:20250907T200000
DTSTAMP:20260421T050059
CREATED:20250823T221410Z
LAST-MODIFIED:20250823T222655Z
UID:9318-1757269800-1757275200@www.brickbooks.ca
SUMMARY:Infinite Audition Book Launch
DESCRIPTION:A most theatrical book launch\, with music by Janice Jo Lee\, monologues performed by five amazing actors\, and Charlie will do a set of poems \n 
URL:https://www.brickbooks.ca/event/infinite-audition-book-launch/
LOCATION:Theatre Passe Muraille\, 16 Ryerson Avenue\, Toronto\, ON\, M5T 2P3\, Canada
ATTACH;FMTTYPE=image/jpeg:https://www.brickbooks.ca/wp-content/uploads/2025/08/Infinite-Audition-Launch_IG.jpg
END:VEVENT
BEGIN:VEVENT
DTSTART;TZID=America/Halifax:20250821T160000
DTEND;TZID=America/Halifax:20250821T180000
DTSTAMP:20260421T050059
CREATED:20250730T200134Z
LAST-MODIFIED:20250730T200134Z
UID:9152-1755792000-1755799200@www.brickbooks.ca
SUMMARY:Writers x Brick Books: 50 Years of Canadian Poetry
DESCRIPTION:Join us as Brick Books celebrates 50 years of publishing Canadian poetry with a special event at Writers at Woody Point\, honouring the past\, present\, and future of poetry – especially as it lives and thrives in Newfoundland and Labrador. \nHosted by Michael Crummey – one of Brick’s most beloved and internationally recognized authors\, and a writer deeply rooted in this place – this intimate afternoon features readings by acclaimed poets Anna Swanson and Matthew Hollett\, whose work continues Brick’s legacy of publishing distinctive\, resonant voices from the Atlantic edge. Together\, these poets reflect the depth and range of Brick’s catalogue\, from groundbreaking debut collections to works that have shaped the Canadian canon. \nLive music by Ellie Hamilton and Hannah Russell – talented local musicians and Writers at Woody Point summer assistants – adds to the spirit of celebration.
URL:https://www.brickbooks.ca/event/writers-x-brick-books-50-years-of-canadian-poetry/
LOCATION:The Merchant Warehouse\, 16 Water Street\, Woody Point\, NL\, A0K 1P0\, Canada
END:VEVENT
BEGIN:VEVENT
DTSTART;TZID=America/New_York:20250730T190000
DTEND;TZID=America/New_York:20250730T220000
DTSTAMP:20260421T050059
CREATED:20250730T194357Z
LAST-MODIFIED:20250730T194357Z
UID:9147-1753902000-1753912800@www.brickbooks.ca
SUMMARY:Shab-e She’r (Poetry Night) CXIII
DESCRIPTION:Shab-e She’r (Poetry Night) is Canada’s most diverse & brave poetry reading + open mic series. \nFeatured poets: Ronna Bloom & Mbonisi Zikhali Zomkhonto + Open Mic for poetry in any language
URL:https://www.brickbooks.ca/event/shab-e-sher-poetry-night-cxiii/
LOCATION:Living Room\, Tranzac Club\, 292 Brunswick Avenue\, Toronto\, ON\, M5S 2M7\, Canada
END:VEVENT
BEGIN:VEVENT
DTSTART;TZID=America/Denver:20250708T183000
DTEND;TZID=America/Denver:20250708T203000
DTSTAMP:20260421T050059
CREATED:20250703T013529Z
LAST-MODIFIED:20250703T013529Z
UID:8838-1751999400-1752006600@www.brickbooks.ca
SUMMARY:Happy 50th Anniversary
DESCRIPTION:Join Brick Books for a celebratory reading of your favourite Brick Books poems (BYOBrickPoem) at the Al-Purdy A-Frame. Reach out to us for more details!
URL:https://www.brickbooks.ca/event/happy-50th-anniversary/
LOCATION:ON
END:VEVENT
BEGIN:VEVENT
DTSTART;TZID=America/Chicago:20250607T190000
DTEND;TZID=America/Chicago:20250607T200000
DTSTAMP:20260421T050059
CREATED:20250525T214455Z
LAST-MODIFIED:20250525T214455Z
UID:8675-1749322800-1749326400@www.brickbooks.ca
SUMMARY:Estlin McPhee Book Launch at McNally Robinson in Saskatoon
DESCRIPTION:Join poet Estlin McPhee for the Saskatoon launch of their debut collection In Your Nature (Brick Books)\, with special guests Leah Horlick and Rowan F. Neufeld. \nThis event will be held live in the Travel Alcove and also available as a simultaneous YouTube stream. \n 
URL:https://www.brickbooks.ca/event/estlin-mcphee-book-launch-at-mcnally-robinson-in-saskatoon/
LOCATION:McNally Robinson Saskatoon\, 3130-8th Street East\, Saskatoon\, SK\, S7H 0W2\, Canada
END:VEVENT
BEGIN:VEVENT
DTSTART;TZID=America/New_York:20250601T170000
DTEND;TZID=America/New_York:20250601T190000
DTSTAMP:20260421T050059
CREATED:20250525T212504Z
LAST-MODIFIED:20250525T212504Z
UID:8668-1748797200-1748804400@www.brickbooks.ca
SUMMARY:Christine Wu & Jessica Bebenek at LitLive Reading Series in Hamilton
DESCRIPTION:LitLive Reading Series presents Christine Wu\, author of Familial Hungers. Christine will read alongside Jessica Bebenek\, author of No One Knows Us There (Book*hug Press). \n 
URL:https://www.brickbooks.ca/event/christine-wu-jessica-bebenek-at-litlive-reading-series-in-hamilton/
LOCATION:The Staircase Theatre + Lounge\, 27 Dundurn St. N.\, Hamilton\, ON\, L8R 3C9\, Canada
END:VEVENT
BEGIN:VEVENT
DTSTART;TZID=UTC:20250531T160000
DTEND;TZID=UTC:20250531T180000
DTSTAMP:20260421T050059
CREATED:20250522T031352Z
LAST-MODIFIED:20250522T031352Z
UID:8646-1748707200-1748714400@www.brickbooks.ca
SUMMARY:Christine Wu & Jessica Bebenek at Little Wren Books
DESCRIPTION:Little Wren Books presents readings from Christine Wu\, author of Familial Hungers\, and Jessica Bebenek\, author of No One Knows Us There (Book*hug Press).
URL:https://www.brickbooks.ca/event/christine-wu-jessica-bebenek-at-little-wren-books/
LOCATION:Little Wren Books\, 502 Adelaide St. N.\, London\, ON\, N6B 3J2\, Canada
END:VEVENT
BEGIN:VEVENT
DTSTART;TZID=America/New_York:20250529T193000
DTEND;TZID=America/New_York:20250529T220000
DTSTAMP:20260421T050059
CREATED:20250522T021815Z
LAST-MODIFIED:20250522T031506Z
UID:8637-1748547000-1748556000@www.brickbooks.ca
SUMMARY:Christine Wu & Jessica Bebenek at Outer Haven Poetry Series
DESCRIPTION:Outer Haven Poetry Series presents readings from Christine Wu\, author of Familial Hungers\, and Jessica Bebenek\, author of No One Knows Us There (Book*hug Press).
URL:https://www.brickbooks.ca/event/christine-wu-jessica-bebenek-at-outer-haven-poetry-series/
LOCATION:Imperial Pub\, 54 Dundas St. E.\, Toronto\, ON\, M5B 1C7\, Canada
END:VEVENT
BEGIN:VEVENT
DTSTART;TZID=UTC:20250527T180000
DTEND;TZID=UTC:20250527T190000
DTSTAMP:20260421T050059
CREATED:20250507T163954Z
LAST-MODIFIED:20250522T031530Z
UID:8543-1748368800-1748372400@www.brickbooks.ca
SUMMARY:Poetry Night at the Barrie Public Library with Christine Wu & Jessica Bebenek
DESCRIPTION:Barrie Public Library presents Christine Wu\, author of Familial Hungers. Christine will be reading alongside Jessica Bebenek\, author of No One Knows Us There (Book*hug Press).
URL:https://www.brickbooks.ca/event/poetry-night-at-the-barrie-public-library-with-christine-wu-jessica-bebenek/
LOCATION:Barrie Public Library\, 60 Worsley St.\, Barrie\, ON\, L4M 1L6\, Canada
END:VEVENT
BEGIN:VEVENT
DTSTART;TZID=America/Denver:20250525T110000
DTEND;TZID=America/Denver:20250525T120000
DTSTAMP:20260421T050059
CREATED:20250522T011208Z
LAST-MODIFIED:20250522T031922Z
UID:8628-1748170800-1748174400@www.brickbooks.ca
SUMMARY:Planet Earth Poetry's Community Writing Practice with Estlin McPhee
DESCRIPTION:Join Planet Earth Poetry’s Writing Practice on Zoom with guest Estlin McPhee\, author of In Your Nature. Writing Practice is free to attend — please feel free to invite a friend and share these Zoom credentials with them. There will be exercises\, discussion\, and silent time to write together. \n  \nhttps://us02web.zoom.us/j/4946604447?pwd=MnZDYjkrQWxMMnRpMkhaSmFNekxmdz09#success \nMeeting ID: 494 660 4447 Passcode: 2129 \n*Note this is a Zoom-only event. \n 
URL:https://www.brickbooks.ca/event/planet-earth-poetrys-community-writing-practice-with-estlin-mcphee/
LOCATION:ON
END:VEVENT
BEGIN:VEVENT
DTSTART;TZID=UTC:20250524T180000
DTEND;TZID=UTC:20250524T210000
DTSTAMP:20260421T050059
CREATED:20250507T160402Z
LAST-MODIFIED:20250522T031617Z
UID:8538-1748109600-1748120400@www.brickbooks.ca
SUMMARY:Dual Book Launch at Another Story Bookshop with Christine Wu & Jessica Bebenek
DESCRIPTION:Another Story Bookshop presents the Toronto co-launch of Jessica Bebenek’s No One Knows Us There (Book*hug Press) and Christine Wu’s Familial Hungers. Also featuring guest reader Terese Mason Pierre\, author of Myth.
URL:https://www.brickbooks.ca/event/dual-book-launch-at-another-story-bookshop-with-christine-wu-jessica-bebenek/
LOCATION:Another Story Bookshop\, 315 Roncesvalles Ave.\, Toronto\, ON\, M6R 2M6\, Canada
END:VEVENT
BEGIN:VEVENT
DTSTART;TZID=America/Denver:20250523T193000
DTEND;TZID=America/Denver:20250523T203000
DTSTAMP:20260421T050059
CREATED:20250522T000457Z
LAST-MODIFIED:20250522T031839Z
UID:8618-1748028600-1748032200@www.brickbooks.ca
SUMMARY:Estlin McPhee Reads From In Your Nature at Russell Books
DESCRIPTION:Discover the poetry of Estlin McPhee\, author of In Your Nature\, on Friday\, May 23\, at Russell Books. Estlin will be joined by another featured poet\, Arleen Paré.  \nDoors at 7:00 pm\, event starts at 7:30 pm. The event will also be livestreamed. \n 
URL:https://www.brickbooks.ca/event/estlin-mcphee-reads-from-in-your-nature-at-russell-books/
LOCATION:Russell Books\, 100-747 Fort St.\, Victoria\, BC\, V8W 1G9\, Canada
END:VEVENT
BEGIN:VEVENT
DTSTART;TZID=UTC:20250522T190000
DTEND;TZID=UTC:20250522T213000
DTSTAMP:20260421T050059
CREATED:20250507T120052Z
LAST-MODIFIED:20250522T031720Z
UID:8532-1747940400-1747949400@www.brickbooks.ca
SUMMARY:Dual Book Launch at mai/son with Christine Wu & Jessica Bebenek
DESCRIPTION:mai/son presents the Montréal co-launch of Jessica Bebenek’s No One Knows Us There (Book*hug Press) and Christine Wu’s Familial Hungers. With special guests Liz Howard and Andrew Whiteman.
URL:https://www.brickbooks.ca/event/dual-book-launch-at-mai-son-with-christine-wu-jessica-bebenek/
LOCATION:mai/son\, 88 Bd St Joseph O\, Montréal\, QC\, H2T 2P4\, Canada
END:VEVENT
BEGIN:VEVENT
DTSTART;TZID=America/Denver:20250521T180000
DTEND;TZID=America/Denver:20250521T193000
DTSTAMP:20260421T050059
CREATED:20250521T232017Z
LAST-MODIFIED:20250521T232017Z
UID:8609-1747850400-1747855800@www.brickbooks.ca
SUMMARY:Double Book Launch: In Your Nature & Tabako on the Windowsill
DESCRIPTION:You’re invited to a double launch of In Your Nature and Tabako on the Windowsill\, new poetry collections by Brick Books authors Estlin McPhee and Hari Alluri. Celebrate with the authors and featured guests Cassandra Blanchard and Zena Sharman. \nDoors 6:00 PM\, readings start promptly at 6:15 PM. Books will be for sale via cash or e-transfer only.
URL:https://www.brickbooks.ca/event/double-book-launch-in-your-nature-tabako-on-the-windowsill/
LOCATION:Vancouver Island Regional Library\, Cowichan Branch\, 2687 James St.\, Duncan\, BC\, V9L 2X5\, Canada
END:VEVENT
BEGIN:VEVENT
DTSTART;TZID=America/Toronto:20250520T190000
DTEND;TZID=America/Toronto:20250520T203000
DTSTAMP:20260421T050059
CREATED:20250507T120055Z
LAST-MODIFIED:20250507T151546Z
UID:8525-1747767600-1747773000@www.brickbooks.ca
SUMMARY:Dual Book Launch at Perfect Books with Christine Wu & Jessica Bebenek
DESCRIPTION:Perfect Books presents the Ottawa co-launch of Jessica Bebenek’s No One Knows Us There (Book*hug Press) and Christine Wu’s Familial Hungers. With special guest Ellen Chang-Richardson\, author of Blood Belies.
URL:https://www.brickbooks.ca/event/dual-book-launch-at-perfect-books-with-christine-wu-jessica-bebenek/
LOCATION:Perfect Books\, 248 Elgin St.\, Ottawa\, ON\, K2P 1L9\, Canada
END:VEVENT
BEGIN:VEVENT
DTSTART;TZID=America/Sao_Paulo:20250427T150000
DTEND;TZID=America/Sao_Paulo:20250427T160000
DTSTAMP:20260421T050059
CREATED:20250413T185128Z
LAST-MODIFIED:20250413T204421Z
UID:8447-1745766000-1745769600@www.brickbooks.ca
SUMMARY:‘The Catch Up’ Reading Series with Christine Wu\, Annick MacAskill\, and Jessica Bebenek
DESCRIPTION:Fredericton’s monthly reading series\, ‘The Catch-Up\,’ curated and hosted by acclaimed writer Fawn Parker\, returns with a special ‘Poetry Month’ spectacular featuring visiting poets Christine Wu\, author of Familial Hungers\, Annick MacAskill\, author of Votive (Gaspereau Press)\, and Jessica Bebenek\, No One Knows Us There (Book*hug Press)!
URL:https://www.brickbooks.ca/event/the-catch-up-reading-series-with-christine-wu-annick-macaskill-and-jessica-bebenek/
LOCATION:Westminster Bookmark\, 88 York St.\, Fredericton\, NB\, E3B 3N5\, Canada
END:VEVENT
BEGIN:VEVENT
DTSTART;TZID=America/Sao_Paulo:20250426T160000
DTEND;TZID=America/Sao_Paulo:20250426T170000
DTSTAMP:20260421T050059
CREATED:20250413T180227Z
LAST-MODIFIED:20250413T203937Z
UID:8439-1745683200-1745686800@www.brickbooks.ca
SUMMARY:LaHave River Books Presents a Triple Book Launch with Christine Wu\, Jessica Hiemstra\, and Jessica Bebenek
DESCRIPTION:LaHave River Books Presents a Triple Book Launch with Christine Wu\, author of Familial Hungers\, Jessica Hiemstra\, author of Blood Root (Goose Lane Editions)\, and Jessica Bebenek\, author of No One Knows Us There (Book*hug Press). Cory Lavender\, author of Come One Thing Another\, will give an introduction.
URL:https://www.brickbooks.ca/event/lahave-river-books-presents-a-triple-book-launch-with-christine-wu-jessica-hiemstra-and-jessica-bebenek/
LOCATION:LaHave River Books\, 3421 Route 331\, LaHave\, NS\, B0R 1C0\, Canada
END:VEVENT
BEGIN:VEVENT
DTSTART;TZID=America/Sao_Paulo:20250425T190000
DTEND;TZID=America/Sao_Paulo:20250425T203000
DTSTAMP:20260421T050059
CREATED:20250413T173101Z
LAST-MODIFIED:20250413T203623Z
UID:8432-1745607600-1745613000@www.brickbooks.ca
SUMMARY:Dual Book Launch at Trident Booksellers and Cafe with Christine Wu & Jessica Bebenek
DESCRIPTION:Trident Booksellers and Cafe presents the Halifax launch of Christine Wu’s Familiar Hungers and Jessica Bebenek’s No One Knows Us There (Book*hug Press).The event will be hosted by Clare Goulet.
URL:https://www.brickbooks.ca/event/dual-book-launch-at-trident-booksellers-and-cafe-with-christine-wu-jessica-bebenek/
LOCATION:Trident Booksellers and Cafe\, 1256 Hollis St.\, Halifax\, NS\, B3J 1T6\, Canada
END:VEVENT
BEGIN:VEVENT
DTSTART;TZID=America/Halifax:20250424T190000
DTEND;TZID=America/Halifax:20250424T210000
DTSTAMP:20260421T050059
CREATED:20250413T155920Z
LAST-MODIFIED:20250413T203508Z
UID:8413-1745521200-1745528400@www.brickbooks.ca
SUMMARY:Dual Book Launch & Poetry Reading at Librairie Pulp Books & Café with Louise Marois\, Manahil Bandukwala\, D.M. Bradford\, Faith Paré\, and Misha Solomon
DESCRIPTION:Ring of Dust by Louise Marois\, translated by D.M. Bradford\, and Heliotropia by Manahil Bandukwala will have a dual book launch and reading at Librairie Pulp Books & Café. Join Louise Marois\, D.M. Bradford\, Manahil Bandukwala\, and special guests Faith Paré and Misha Solomon\, for a night of poetry reading. \nDoors open at 6:45pm.
URL:https://www.brickbooks.ca/event/dual-book-launch-poetry-reading-at-librairie-pulp-books-cafe-with-louise-marois-manahil-bandukwala-d-m-bradford-faith-pare-and-misha-solomon/
LOCATION:Librairie Pulp Books & Cafe\, 3952 Ave Wellington\, Montreal\, QC\, H4G 1V3\, Canada
END:VEVENT
BEGIN:VEVENT
DTSTART;TZID=America/Sao_Paulo:20250424T190000
DTEND;TZID=America/Sao_Paulo:20250424T203000
DTSTAMP:20260421T050059
CREATED:20250413T165228Z
LAST-MODIFIED:20250413T203347Z
UID:8419-1745521200-1745526600@www.brickbooks.ca
SUMMARY:Block Shop Books Poetry Reading with Christine Wu & Jessica Bebenek
DESCRIPTION:Block Shop Books presents Christine Wu\, author of Familial Hungers\, and Jessica Bebenek\, author of No One Knows Us There (Book*hug Press)\, for a dual reading of their new poetry releases.
URL:https://www.brickbooks.ca/event/block-shop-books-poetry-reading-with-christine-wu-jessica-bebenek/
LOCATION:ON
ORGANIZER;CN="Block Shop Books":MAILTO:blockshopbooks@gmail.com
END:VEVENT
BEGIN:VEVENT
DTSTART;TZID=UTC:20250122T170000
DTEND;TZID=UTC:20250122T190000
DTSTAMP:20260421T050059
CREATED:20250113T232643Z
LAST-MODIFIED:20250113T232643Z
UID:8040-1737565200-1737572400@www.brickbooks.ca
SUMMARY:Marc Perez Reads from Dayo for The Whole Cloth Reading Series
DESCRIPTION:Marc Perez will read the entirety of Dayo at The Whole Cloth Reading Series. Jan 22 at 5pm\, Coach House\, Green College UBC. \n  \n 
URL:https://www.brickbooks.ca/event/marc-perez-reads-from-dayo-for-the-whole-cloth-reading-series/
LOCATION:ON
END:VEVENT
BEGIN:VEVENT
DTSTART;TZID=UTC:20250115T190000
DTEND;TZID=UTC:20250115T210000
DTSTAMP:20260421T050059
CREATED:20250113T232300Z
LAST-MODIFIED:20250113T232300Z
UID:8037-1736967600-1736974800@www.brickbooks.ca
SUMMARY:Jody Chan Reads at Speakeasy Reading Series
DESCRIPTION:Catch Brick Poet Jody Chan reading @ Glad Day Bookshop & on Zoom on January 15th at 7PM. \n 
URL:https://www.brickbooks.ca/event/jody-chan-reads-at-speakeasy-reading-series/
LOCATION:ON
END:VEVENT
END:VCALENDAR